BEGIN:VCALENDAR
VERSION:2.0
PRODID:-//pretix//diversity_München_e.V._Events//
BEGIN:VTIMEZONE
TZID:Europe/Berlin
BEGIN:STANDARD
DTSTART:20001029T030000
RRULE:FREQ=YEARLY;BYDAY=-1SU;BYMONTH=10
TZNAME:CET
TZOFFSETFROM:+0200
TZOFFSETTO:+0100
END:STANDARD
BEGIN:DAYLIGHT
DTSTART:20000326T020000
RRULE:FREQ=YEARLY;BYDAY=-1SU;BYMONTH=3
TZNAME:CEST
TZOFFSETFROM:+0100
TZOFFSETTO:+0200
END:DAYLIGHT
END:VTIMEZONE
BEGIN:VEVENT
UID:pretix-wilma-schlittschuhlaufen-0@events.diversity-muenchen.de
DTSTART;TZID=Europe/Berlin:20230217T194500
DTEND;TZID=Europe/Berlin:20230217T213000
DESCRIPTION:Tickets: https://events.diversity-muenchen.de/wilma/schlittschu
 hlaufen/\nVeranstalter: Wilma
DTSTAMP:20260419T200352Z
LOCATION:Prinzregentenstadion\nPrinzregentenstr. 80 \, 81675 München
SUMMARY:Schlittschuhlaufen
END:VEVENT
END:VCALENDAR
