BEGIN:VCALENDAR
VERSION:2.0
PRODID:-//pretix//diversity_München_e.V._Events//
BEGIN:VTIMEZONE
TZID:Europe/Berlin
BEGIN:STANDARD
DTSTART:20001029T030000
RRULE:FREQ=YEARLY;BYDAY=-1SU;BYMONTH=10
TZNAME:CET
TZOFFSETFROM:+0200
TZOFFSETTO:+0100
END:STANDARD
BEGIN:DAYLIGHT
DTSTART:20000326T020000
RRULE:FREQ=YEARLY;BYDAY=-1SU;BYMONTH=3
TZNAME:CEST
TZOFFSETFROM:+0100
TZOFFSETTO:+0200
END:DAYLIGHT
END:VTIMEZONE
BEGIN:VEVENT
UID:pretix-school-neas-26-7-0@events.diversity-muenchen.de
DTSTART;TZID=Europe/Berlin:20260706T190000
DESCRIPTION:Tickets: https://events.diversity-muenchen.de/school/neas-26-7/
 \nVeranstalter: diversity@school
DTSTAMP:20260425T175207Z
LOCATION:diversity München e.V. Jugendzentrum \nBlumenstraße 11\n80331 M
 ünchen
SUMMARY:Neueinsteiger*innen-Abend von diversity@school - Juli 2026
END:VEVENT
END:VCALENDAR
