BEGIN:VCALENDAR
VERSION:2.0
PRODID:-//pretix//diversity_München_e.V._Events//
BEGIN:VTIMEZONE
TZID:Europe/Berlin
BEGIN:STANDARD
DTSTART:20001029T030000
RRULE:FREQ=YEARLY;BYDAY=-1SU;BYMONTH=10
TZNAME:CET
TZOFFSETFROM:+0200
TZOFFSETTO:+0100
END:STANDARD
BEGIN:DAYLIGHT
DTSTART:20000326T020000
RRULE:FREQ=YEARLY;BYDAY=-1SU;BYMONTH=3
TZNAME:CEST
TZOFFSETFROM:+0100
TZOFFSETTO:+0200
END:DAYLIGHT
END:VTIMEZONE
BEGIN:VEVENT
UID:pretix-diversity-testabend-263@events.diversity-muenchen.de
DTSTART;TZID=Europe/Berlin:20251112T175000
DTEND;TZID=Europe/Berlin:20251112T181000
DESCRIPTION:Tickets: https://events.diversity-muenchen.de/diversity/testabe
 nd/263/\nVeranstalter: diversity
DTSTAMP:20260423T075053Z
LOCATION:diversity Jugendzentrum\nBlumenstraße 11\n80331 München
SUMMARY:checkpoint@diversity - kostenloses Testangebot für queere Jugendli
 che und junge Erwachsene
END:VEVENT
END:VCALENDAR
